BEGIN:VCALENDAR
VERSION:2.0
PRODID:-//Consejo Empresarial Mexicano de Comercio Exterior, Inversión y Tecnología, A.C. - ECPv6.15.20//NONSGML v1.0//EN
CALSCALE:GREGORIAN
METHOD:PUBLISH
X-ORIGINAL-URL:https://comce.org.mx
X-WR-CALDESC:Eventos para Consejo Empresarial Mexicano de Comercio Exterior, Inversión y Tecnología, A.C.
REFRESH-INTERVAL;VALUE=DURATION:PT1H
X-Robots-Tag:noindex
X-PUBLISHED-TTL:PT1H
BEGIN:VTIMEZONE
TZID:UTC
BEGIN:STANDARD
TZOFFSETFROM:+0000
TZOFFSETTO:+0000
TZNAME:UTC
DTSTART:20250101T000000
END:STANDARD
END:VTIMEZONE
BEGIN:VEVENT
DTSTART;TZID=UTC:20260412T080000
DTEND;TZID=UTC:20260415T170000
DTSTAMP:20260421T121431
CREATED:20251203T194248Z
LAST-MODIFIED:20251203T194248Z
UID:10000060-1775980800-1776272400@comce.org.mx
SUMMARY:Saudi Plastic & Petrochemicals
DESCRIPTION:La plataforma que lleva al Reino de Arabia Saudí soluciones innovadoras internacionales y locales\, maquinaria y prácticas de flujo de trabajo sostenibles para la industria del plástico y petroquímica.
URL:https://comce.org.mx/eventos/saudi-plastic-petrochemicals/
LOCATION:Riyadh International Convention & Exhibition Center Riyadh\, Saudi Arabia\, Saudi Arabia
CATEGORIES:Medio Oriente
ATTACH;FMTTYPE=image/jpeg:https://comce.org.mx/wp-content/uploads/2025/12/21st-Saudi-PlasticPetrochem-2026.jpg
END:VEVENT
END:VCALENDAR