BEGIN:VCALENDAR
VERSION:2.0
PRODID:-//Consejo Empresarial Mexicano de Comercio Exterior, Inversión y Tecnología, A.C. - ECPv6.15.20//NONSGML v1.0//EN
CALSCALE:GREGORIAN
METHOD:PUBLISH
X-WR-CALNAME:Consejo Empresarial Mexicano de Comercio Exterior, Inversión y Tecnología, A.C.
X-ORIGINAL-URL:https://comce.org.mx
X-WR-CALDESC:Eventos para Consejo Empresarial Mexicano de Comercio Exterior, Inversión y Tecnología, A.C.
REFRESH-INTERVAL;VALUE=DURATION:PT1H
X-Robots-Tag:noindex
X-PUBLISHED-TTL:PT1H
BEGIN:VTIMEZONE
TZID:UTC
BEGIN:STANDARD
TZOFFSETFROM:+0000
TZOFFSETTO:+0000
TZNAME:UTC
DTSTART:20250101T000000
END:STANDARD
END:VTIMEZONE
BEGIN:VEVENT
DTSTART;TZID=UTC:20260310T080000
DTEND;TZID=UTC:20260312T170000
DTSTAMP:20260419T175147
CREATED:20251119T162827Z
LAST-MODIFIED:20251205T181923Z
UID:10000007-1773129600-1773334800@comce.org.mx
SUMMARY:ExpoComer
DESCRIPTION:EXPOCOMER\, organizada por la Cámara de Comercio\, Industrias y Agricultura de Panamá (CCIAP)\, es la feria comercial más emblemática del país y una de las más relevantes en América Latina. En cada edición reúne a más de 600 empresas expositoras provenientes de más de 30 países\, organizadas en pabellones internacionales y multisectoriales. Su oferta abarca sectores estratégicos como alimentos\, bebidas y productos agropecuarios; textiles\, ropa y accesorios; así como tecnología y electrónicos\, consolidándose como una plataforma de referencia para el establecimiento de alianzas comerciales\, la proyección internacional de las empresas y la promoción de nuevas oportunidades de negocio.
URL:https://comce.org.mx/eventos/expocomer/
LOCATION:Panama Convention Center\, Calle Gral. Juan D. Peron\, Panamá\, Provincia de Panamá\, Panamá\, Panama
CATEGORIES:América Latina y el Caribe
ATTACH;FMTTYPE=image/jpeg:https://comce.org.mx/wp-content/uploads/2025/11/Expocomer.jpg
END:VEVENT
END:VCALENDAR