BEGIN:VCALENDAR
VERSION:2.0
PRODID:-//Consejo Empresarial Mexicano de Comercio Exterior, Inversión y Tecnología, A.C. - ECPv6.15.20//NONSGML v1.0//EN
CALSCALE:GREGORIAN
METHOD:PUBLISH
X-WR-CALNAME:Consejo Empresarial Mexicano de Comercio Exterior, Inversión y Tecnología, A.C.
X-ORIGINAL-URL:https://comce.org.mx
X-WR-CALDESC:Eventos para Consejo Empresarial Mexicano de Comercio Exterior, Inversión y Tecnología, A.C.
REFRESH-INTERVAL;VALUE=DURATION:PT1H
X-Robots-Tag:noindex
X-PUBLISHED-TTL:PT1H
BEGIN:VTIMEZONE
TZID:UTC
BEGIN:STANDARD
TZOFFSETFROM:+0000
TZOFFSETTO:+0000
TZNAME:UTC
DTSTART:20250101T000000
END:STANDARD
END:VTIMEZONE
BEGIN:VEVENT
DTSTART;TZID=UTC:20261201T080000
DTEND;TZID=UTC:20261201T170000
DTSTAMP:20260423T200829
CREATED:20251128T232248Z
LAST-MODIFIED:20251128T232838Z
UID:10000031-1796112000-1796144400@comce.org.mx
SUMMARY:HARDWARE & HAND TOOLS EXPO 2026
DESCRIPTION:Los productos en exhibición incluyen 04 grupos de productos principales: herramientas de reparación\, equipos de refuerzo\, máquinas herramientas\, herramientas manuales. La especificidad de este grupo de productos.
URL:https://comce.org.mx/eventos/hardware-hand-tools-expo-2026/
LOCATION:Ciudad de México
CATEGORIES:Asia y Oceanía
ATTACH;FMTTYPE=image/jpeg:https://comce.org.mx/wp-content/uploads/2025/11/image-picture.jpg
END:VEVENT
BEGIN:VEVENT
DTSTART;TZID=UTC:20261208T080000
DTEND;TZID=UTC:20261211T170000
DTSTAMP:20260423T200829
CREATED:20251203T182832Z
LAST-MODIFIED:20251203T183111Z
UID:10000049-1796716800-1797008400@comce.org.mx
SUMMARY:GITEX Global
DESCRIPTION:GITEX GLOBAL\, la mayor feria tecnológica del mundo\, redefine la economía y el panorama digitales y le pone en contacto con líderes del sector de las grandes empresas tecnológicas\, gobiernos extranjeros\, empresas emergentes innovadoras\, inversores expertos y compradores corporativos.
URL:https://comce.org.mx/eventos/gitex-global/
LOCATION:Expo City Dubai\, Al Wasl Avenue - Madinat Al Mataar - Dubai\, United Arab Emirates
CATEGORIES:Medio Oriente
ATTACH;FMTTYPE=image/jpeg:https://comce.org.mx/wp-content/uploads/2025/12/Gitex.jpg
END:VEVENT
END:VCALENDAR