BEGIN:VCALENDAR
VERSION:2.0
PRODID:-//Consejo Empresarial Mexicano de Comercio Exterior, Inversión y Tecnología, A.C. - ECPv6.15.20//NONSGML v1.0//EN
CALSCALE:GREGORIAN
METHOD:PUBLISH
X-WR-CALNAME:Consejo Empresarial Mexicano de Comercio Exterior, Inversión y Tecnología, A.C.
X-ORIGINAL-URL:https://comce.org.mx
X-WR-CALDESC:Eventos para Consejo Empresarial Mexicano de Comercio Exterior, Inversión y Tecnología, A.C.
REFRESH-INTERVAL;VALUE=DURATION:PT1H
X-Robots-Tag:noindex
X-PUBLISHED-TTL:PT1H
BEGIN:VTIMEZONE
TZID:UTC
BEGIN:STANDARD
TZOFFSETFROM:+0000
TZOFFSETTO:+0000
TZNAME:UTC
DTSTART:20250101T000000
END:STANDARD
END:VTIMEZONE
BEGIN:VEVENT
DTSTART;TZID=UTC:20260901T080000
DTEND;TZID=UTC:20260901T170000
DTSTAMP:20260423T160944
CREATED:20251119T165904Z
LAST-MODIFIED:20251205T181559Z
UID:10000009-1788249600-1788282000@comce.org.mx
SUMMARY:Costa Rica Trade & Investment Summit
DESCRIPTION:Rueda de negocios que se lleva a cabo en Costa Rica siendo la más importante de la región Centroamericana. Este evento promueve las exportaciones\, networking entre compradores internacionales y exportadores costarricenses.
URL:https://comce.org.mx/eventos/costa-rica-trade-investment-summit/
LOCATION:Ciudad de México
CATEGORIES:América Latina y el Caribe
ATTACH;FMTTYPE=image/jpeg:https://comce.org.mx/wp-content/uploads/2025/11/Costa-Rica-Trade-Investment-Summit.jpg
END:VEVENT
BEGIN:VEVENT
DTSTART;TZID=UTC:20260901T080000
DTEND;TZID=UTC:20260901T170000
DTSTAMP:20260423T160944
CREATED:20251127T235239Z
LAST-MODIFIED:20251127T235239Z
UID:10000022-1788249600-1788282000@comce.org.mx
SUMMARY:Pharmaconex West Africa
DESCRIPTION:Feria de la industria farmacéutica
URL:https://comce.org.mx/eventos/pharmaconex-west-africa/
LOCATION:Ciudad de México
CATEGORIES:África
ATTACH;FMTTYPE=image/jpeg:https://comce.org.mx/wp-content/uploads/2025/11/pharmaconex-logo.jpg
END:VEVENT
BEGIN:VEVENT
DTSTART;TZID=UTC:20260908T080000
DTEND;TZID=UTC:20260910T170000
DTSTAMP:20260423T160944
CREATED:20251129T004001Z
LAST-MODIFIED:20251129T004001Z
UID:10000038-1788854400-1789059600@comce.org.mx
SUMMARY:AgraME Dubai
DESCRIPTION:Exhibición sobre agricultura más grande en Medio Oriente. Networking\, presentación de innovaciones tecnológicas\, de nuevos productos y soluciones así como de prácticas de sustentabilidad.
URL:https://comce.org.mx/eventos/agrame-dubai/
LOCATION:Dubai World Trade Centre\, Sheikh Zayed Rd - Trade Center Second - Dubai\, Dubai\, United Arab Emirates
CATEGORIES:Medio Oriente
ATTACH;FMTTYPE=image/jpeg:https://comce.org.mx/wp-content/uploads/2025/11/Agra-Middle-East-logo.jpg
END:VEVENT
BEGIN:VEVENT
DTSTART;TZID=UTC:20260908T080000
DTEND;TZID=UTC:20260912T170000
DTSTAMP:20260423T160944
CREATED:20251205T191558Z
LAST-MODIFIED:20251205T193223Z
UID:10000086-1788854400-1789232400@comce.org.mx
SUMMARY:AUTOMECHANIKA
DESCRIPTION:Frankfurt\, Alemania\nAutomechanika es una feria bienal que se lleva a cabo en Frankfurt\, como la feria líder internacional de servicios automotrices para la industria\, el comercio de concesionarios y el segmento de mantenimiento y reparación\, proporciona una plataforma importante para la transferencia de conocimiento empresarial y tecnológico.
URL:https://comce.org.mx/eventos/automechanika/
LOCATION:Ciudad de México
CATEGORIES:Europa
ATTACH;FMTTYPE=image/jpeg:https://comce.org.mx/wp-content/uploads/2025/12/AUTOMECHANIKA-.jpg
END:VEVENT
BEGIN:VEVENT
DTSTART;TZID=UTC:20260914T080000
DTEND;TZID=UTC:20260919T170000
DTSTAMP:20260423T160944
CREATED:20251128T195951Z
LAST-MODIFIED:20251128T195951Z
UID:10000025-1789372800-1789837200@comce.org.mx
SUMMARY:International Manufacturing Technology Show (IMTS)
DESCRIPTION:La IMTS es una de las exposiciones de manufactura más grandes y relevantes de Norteamérica. Se realiza cada dos años en Chicago y reúne a empresas líderes en maquinaria industrial\, automatización\, robótica y soluciones avanzadas para procesos productivos. Su objetivo central es mostrar innovaciones tecnológicas que transforman la producción industrial y conectar a fabricantes\, proveedores\, ingenieros\, inversionistas y tomadores de decisión del sector. 
URL:https://comce.org.mx/eventos/international-manufacturing-technology-show-imts/
LOCATION:Ciudad de México
CATEGORIES:América del Norte
ATTACH;FMTTYPE=image/jpeg:https://comce.org.mx/wp-content/uploads/2025/11/IMTS2026.jpg
END:VEVENT
BEGIN:VEVENT
DTSTART;TZID=UTC:20260915T080000
DTEND;TZID=UTC:20260918T170000
DTSTAMP:20260423T160944
CREATED:20251205T190805Z
LAST-MODIFIED:20251205T191230Z
UID:10000085-1789459200-1789750800@comce.org.mx
SUMMARY:World Food
DESCRIPTION:Moscú\, Rusia		15 al 18 de septiembre 2026\nLa Exposición Internacional de Alimentos y Bebidas es una plataforma para encontrar nuevos clientes y socios en los canales de distribución clave\, presentar nuevos productos\, ampliar oportunidades y explorar el mercado. En la exposición participan fabricantes de alimentos\, bebidas e ingredientes de 39 países y 58 regiones de Rusia y cada año recibe la visita de más de 20.000 especialistas del comercio minorista y mayorista\, del sector de la restauración pública\, así como de distribuidores y fabricantes de alimentos.	https://world-food.ru/en/
URL:https://comce.org.mx/eventos/world-food/
LOCATION:Ciudad de México
CATEGORIES:Europa
ATTACH;FMTTYPE=image/jpeg:https://comce.org.mx/wp-content/uploads/2025/12/World-Food-Logo.jpg
END:VEVENT
BEGIN:VEVENT
DTSTART;TZID=UTC:20260918T080000
DTEND;TZID=UTC:20260927T170000
DTSTAMP:20260423T160944
CREATED:20251128T230352Z
LAST-MODIFIED:20251128T230352Z
UID:10000029-1789718400-1790528400@comce.org.mx
SUMMARY:Feria Exposición Internacional de Santa Cruz (conocida como FEXPOCRUZ)
DESCRIPTION:Expocruz\, organizada por FEXPOCRUZ en Santa Cruz de la Sierra\, es la feria multisectorial más importante de Bolivia y una de las plataformas comerciales más relevantes de Sudamérica. Cada año reúne a más de 2.200 marcas y 30 delegaciones internacionales\, generando alrededor de US$200 millones en intenciones de negocios. Respaldada por instituciones como CAINCO y la Cámara Agropecuaria del Oriente (CAO)\, Expocruz se consolida como un referente continental para la innovación\, la proyección empresarial y la integración económica\, promoviendo oportunidades de negocio en sectores clave como la agroindustria\, la ganadería\, la tecnología\, la construcción y los servicios.
URL:https://comce.org.mx/eventos/feria-exposicion-internacional-de-santa-cruz-conocida-como-fexpocruz/
LOCATION:Ciudad de México
CATEGORIES:América Latina y el Caribe
ATTACH;FMTTYPE=image/png:https://comce.org.mx/wp-content/uploads/2025/11/FEXPOCRUZ-logo.png
END:VEVENT
BEGIN:VEVENT
DTSTART;TZID=UTC:20260922T080000
DTEND;TZID=UTC:20260924T170000
DTSTAMP:20260423T160944
CREATED:20251207T181244Z
LAST-MODIFIED:20251207T181244Z
UID:10000092-1790064000-1790269200@comce.org.mx
SUMMARY:Metaworld  Congress 2026
DESCRIPTION:Madrid\, España \nEl Congreso contará con empresas españolas como Orange\, El Corte Inglés y BBVA\, su objetivo es convertirse en un Puente entre marcas\, empresas tecnológicas e inversoras que actuará como escaparate donde los metaversos\, y otras tecnologías\, podrán mostrar al mundo sus avances en los sectores con mejores perspectivas de futuro. Contacto: hola@metaworldcongress.es 
URL:https://comce.org.mx/eventos/metaworld-congress-2026/
LOCATION:Ciudad de México
CATEGORIES:Europa
ATTACH;FMTTYPE=image/jpeg:https://comce.org.mx/wp-content/uploads/2025/12/Food-Drink-Expo.jpg
END:VEVENT
END:VCALENDAR