BEGIN:VCALENDAR
VERSION:2.0
PRODID:-//Consejo Empresarial Mexicano de Comercio Exterior, Inversión y Tecnología, A.C. - ECPv6.15.20//NONSGML v1.0//EN
CALSCALE:GREGORIAN
METHOD:PUBLISH
X-ORIGINAL-URL:https://comce.org.mx
X-WR-CALDESC:Eventos para Consejo Empresarial Mexicano de Comercio Exterior, Inversión y Tecnología, A.C.
REFRESH-INTERVAL;VALUE=DURATION:PT1H
X-Robots-Tag:noindex
X-PUBLISHED-TTL:PT1H
BEGIN:VTIMEZONE
TZID:UTC
BEGIN:STANDARD
TZOFFSETFROM:+0000
TZOFFSETTO:+0000
TZNAME:UTC
DTSTART:20240101T000000
END:STANDARD
END:VTIMEZONE
BEGIN:VEVENT
DTSTART;TZID=UTC:20251015T080000
DTEND;TZID=UTC:20260510T170000
DTSTAMP:20260419T200541
CREATED:20251203T180914Z
LAST-MODIFIED:20251207T191056Z
UID:10000046-1760515200-1778432400@comce.org.mx
SUMMARY:Dubai Global Village
DESCRIPTION:El mejor entretenimiento\, compras\, experiencias gastronómicas y atracciones  del mundo traídas a Dubái diseñadas para mantenerle cautivado durante toda la temporada. Descubra un mundo más maravilloso cada vez que nos visite para disfrutar de una miríada de culturas\, cocinas y conversaciones.
URL:https://comce.org.mx/eventos/dubai-global-village/
LOCATION:Ciudad de México
CATEGORIES:Medio Oriente
ATTACH;FMTTYPE=image/jpeg:https://comce.org.mx/wp-content/uploads/2025/12/Dubai-Global-Village.jpg
END:VEVENT
BEGIN:VEVENT
DTSTART;TZID=UTC:20260420T080000
DTEND;TZID=UTC:20260424T170000
DTSTAMP:20260419T200541
CREATED:20251119T171018Z
LAST-MODIFIED:20251205T180736Z
UID:10000010-1776672000-1777050000@comce.org.mx
SUMMARY:HANNOVER MESSE
DESCRIPTION:Celebrada en Alemania desde hace 60 años\, Hannover Messe es el principal mercado para tecnologías de punta\, materiales e ideas. La exposición reúne ocho importantes ferias en un solo lugar y permite la interacción e integración entre distintas industrias y ámbitos de aplicación. Ofrece automatización de procesos industriales\, edificios y una amplia gama de tecnologías energéticas\, software industrial\, servicios\, logística\, ecosistemas digitales y más.
URL:https://comce.org.mx/eventos/hannover-messe/
LOCATION:Ciudad de México
CATEGORIES:Europa
ATTACH;FMTTYPE=image/jpeg:https://comce.org.mx/wp-content/uploads/2025/11/HANNOVER-MESSE-1.jpg
END:VEVENT
BEGIN:VEVENT
DTSTART;TZID=UTC:20260420T080000
DTEND;TZID=UTC:20260425T170000
DTSTAMP:20260419T200541
CREATED:20251203T180234Z
LAST-MODIFIED:20251203T180406Z
UID:10000045-1776672000-1777136400@comce.org.mx
SUMMARY:Doha Jewellery and Watches Exhibition (DJWE) 
DESCRIPTION:Al ser el evento regional más importante de su tipo para B2C\, los Difusión a esta Expo pueden admirar la elaboración artesanal de más de 500 marcas de joyería y de relojes reconocidas a nivel mundial.  En un área de 33\,000 m2\, los mejores joyeros de Qatar y del mundo introducen nuevas marcas\, colecciones de edición limitada y piezas extraordinarias.
URL:https://comce.org.mx/eventos/doha-jewellery-and-watches-exhibition-djwe/
LOCATION:Doha Exhibition and Convention Center (DECC)\, West-bay\, P.O. Box 10600 - Doha\, Qatar
CATEGORIES:Medio Oriente
ATTACH;FMTTYPE=image/png:https://comce.org.mx/wp-content/uploads/2025/12/Doha-Jewellery-and-Watches-Exhibition.png
END:VEVENT
BEGIN:VEVENT
DTSTART;TZID=UTC:20260421T080000
DTEND;TZID=UTC:20260423T170000
DTSTAMP:20260419T200541
CREATED:20251207T182226Z
LAST-MODIFIED:20251207T182226Z
UID:10000094-1776758400-1776963600@comce.org.mx
SUMMARY:Seafood Expo Global
DESCRIPTION:Barcelona\, España\nSeafood Expo Global/Seafood Processing Global proporciona a los compradores de productos del mar las oportunidades de abastecimiento y el acceso que se encuentran en un solo lugar. A lo largo de nueve pabellones\, profesionales se encuentran cara a cara con más de 2\, 000 proveedores y expositores que representan a más de 85 países. Se presentan casi todos los tipos de productos del mar\, equipos y servicios.
URL:https://comce.org.mx/eventos/seafood-expo-global/
LOCATION:Ciudad de México
CATEGORIES:Europa
ATTACH;FMTTYPE=image/jpeg:https://comce.org.mx/wp-content/uploads/2025/12/Seafood.jpg
END:VEVENT
BEGIN:VEVENT
DTSTART;TZID=UTC:20260421T080000
DTEND;TZID=UTC:20260423T170000
DTSTAMP:20260419T200541
CREATED:20251207T182848Z
LAST-MODIFIED:20251207T182848Z
UID:10000095-1776758400-1776963600@comce.org.mx
SUMMARY:MACFRUT
DESCRIPTION:Rimini\, Italia \nExhibición internacional que reúne a los expertos del sector hortofrutícola en Italia y el extranjero\, cuenta con un espacio expositivo de 55 mil metros cuadrados en ocho pabellones\, en las pasadas ediciones se inscribieron alrededor de mil expositores\, registrando alrededor de 45 mil visitantes y con la participación de 90 países.\nContacto: info@macfrut.com \nTel.: +39 0547 317435
URL:https://comce.org.mx/eventos/macfrut/
LOCATION:Ciudad de México
CATEGORIES:Europa
ATTACH;FMTTYPE=image/jpeg:https://comce.org.mx/wp-content/uploads/2025/12/MACFRUT.jpg
END:VEVENT
BEGIN:VEVENT
DTSTART;TZID=UTC:20260422T080000
DTEND;TZID=UTC:20260424T170000
DTSTAMP:20260419T200541
CREATED:20251128T234236Z
LAST-MODIFIED:20251128T234450Z
UID:10000034-1776844800-1777050000@comce.org.mx
SUMMARY:INATRONICS - Exposición internacional de electrónica\, componentes y tecnología de Indonesia 2026
DESCRIPTION:  INATRONICS 2024 se llevará a cabo junto con ICE\, Cable and Wire Indonesia\, INALIGHT e INAGREENTECH. INATRONICS es una plataforma integral para electrónica\, componentes\, consumidores\, TI y telecomunicaciones\, cable\, iluminación\, LED modernos y señalización digital\, y tecnología ecológica. Con el apoyo del gobierno de Indonesia y varias asociaciones clave de Indonesia (GABEL\, HTII\, Aperlindo\, Gamatrindo\, APKABEL)\, este evento será el evento comercial más esperado de la ASEAN para las industrias de fabricación de productos electrónicos de consumo.
URL:https://comce.org.mx/eventos/inatronics-exposicion-internacional-de-electronica-componentes-y-tecnologia-de-indonesia-2026/
LOCATION:Ciudad de México
CATEGORIES:Asia y Oceanía
ATTACH;FMTTYPE=image/jpeg:https://comce.org.mx/wp-content/uploads/2025/11/INATRONICS.jpg
END:VEVENT
BEGIN:VEVENT
DTSTART;TZID=UTC:20260428T080000
DTEND;TZID=UTC:20260430T170000
DTSTAMP:20260419T200541
CREATED:20251119T180025Z
LAST-MODIFIED:20251205T182542Z
UID:10000016-1777363200-1777568400@comce.org.mx
SUMMARY:CPMA Annual Convention & Trade Show (Canadian Produce Marketing Association)
DESCRIPTION:Foro único para líderes de la industria para mejorar oportunidades de negocio en Canadá a través de educación y networking. Se enfoca en la cadena de suministro de frutas y verduras frescas (productos frescos)\, incluyendo productores\, empacadores\, mayoristas\, minoristas\, importadores y exportadores.
URL:https://comce.org.mx/eventos/cpma-annual-convention-trade-show-canadian-produce-marketing-association/
LOCATION:Ciudad de México
CATEGORIES:América del Norte
ATTACH;FMTTYPE=image/jpeg:https://comce.org.mx/wp-content/uploads/2025/11/CPMA.jpg
END:VEVENT
BEGIN:VEVENT
DTSTART;TZID=UTC:20260429T080000
DTEND;TZID=UTC:20260501T170000
DTSTAMP:20260419T200541
CREATED:20251119T175612Z
LAST-MODIFIED:20251205T182547Z
UID:10000015-1777449600-1777654800@comce.org.mx
SUMMARY:SIAL Canadá
DESCRIPTION:Esta feria está enfocada en la innovación de la industria agroalimentaria y sus sectores relacionados. Cubre los requisitos específicos de los sectores minorista\, de servicios de alimentos y de procesamiento de alimentos; asistencia de más de 800 expositores y marcas de 55 países.
URL:https://comce.org.mx/eventos/sial-canada/
LOCATION:Ciudad de México
CATEGORIES:América del Norte
ATTACH;FMTTYPE=image/jpeg:https://comce.org.mx/wp-content/uploads/2025/11/SIAL-Canada.jpg
END:VEVENT
BEGIN:VEVENT
DTSTART;TZID=UTC:20260501T080000
DTEND;TZID=UTC:20260501T170000
DTSTAMP:20260419T200541
CREATED:20251127T221324Z
LAST-MODIFIED:20251127T233444Z
UID:10000020-1777622400-1777654800@comce.org.mx
SUMMARY:Emwa Equipment & Manufacturing West Africa
DESCRIPTION:Feria internacional de productos industriales y maquinaria.
URL:https://comce.org.mx/eventos/emwa-equipment-manufacturing-west-africa/
LOCATION:Ciudad de México
CATEGORIES:África
ATTACH;FMTTYPE=image/jpeg:https://comce.org.mx/wp-content/uploads/2025/11/EMWA-2.jpg
END:VEVENT
BEGIN:VEVENT
DTSTART;TZID=UTC:20260510T080000
DTEND;TZID=UTC:20260513T170000
DTSTAMP:20260419T200541
CREATED:20251203T194830Z
LAST-MODIFIED:20251203T194830Z
UID:10000062-1778400000-1778691600@comce.org.mx
SUMMARY:Big 5 Construct Saudi
DESCRIPTION:18 al 21 de enero 2026 & 10 al 13 de mayo de 2026\nEl evento constará de un formato sin precedentes de dos semanas en 2025\, cada una de ellas dedicada a sectores clave de la industria de la construcción que ofrecen contenidos especializados\, categorías de productos específicas y profundizan en todos los rincones del entorno construido en Arabia Saudita.
URL:https://comce.org.mx/eventos/big-5-construct-saudi/2026-05-10/
LOCATION:Ciudad de México
CATEGORIES:Medio Oriente
ATTACH;FMTTYPE=image/jpeg:https://comce.org.mx/wp-content/uploads/2025/12/BIG5.jpg
END:VEVENT
BEGIN:VEVENT
DTSTART;TZID=UTC:20260511T080000
DTEND;TZID=UTC:20260513T170000
DTSTAMP:20260419T200541
CREATED:20251203T191514Z
LAST-MODIFIED:20251203T191514Z
UID:10000054-1778486400-1778691600@comce.org.mx
SUMMARY:Oman Design & Build Week
DESCRIPTION:La feria y conferencia B2B más importante del sector de la construcción\, el diseño y el sector inmobiliario en Omán
URL:https://comce.org.mx/eventos/oman-design-build-week/
LOCATION:Ciudad de México
CATEGORIES:Medio Oriente
ATTACH;FMTTYPE=image/jpeg:https://comce.org.mx/wp-content/uploads/2025/12/OMAN-Design.jpg
END:VEVENT
BEGIN:VEVENT
DTSTART;TZID=UTC:20260511T080000
DTEND;TZID=UTC:20260514T170000
DTSTAMP:20260419T200541
CREATED:20251207T181704Z
LAST-MODIFIED:20251207T181704Z
UID:10000093-1778486400-1778778000@comce.org.mx
SUMMARY:TUTTOFOOD
DESCRIPTION:Milán\, Italia\nUna de las principales ferias B2B del ecosistema agroalimentario en Italia que se realiza de manera bienal\, la cual pretende que exportadores y proveedores de alimentos frescos e industrializados puedan promover sus productos en el mercado italiano y con terceros países que también asistan a la Feria. Los exponentes podrán participar tanto dentro del recinto ferial como en otros lugares emblemáticos de la ciudad de Milán a los que se extiende la iniciativa. En la 10ª edición de 2025 se espera captar 40% más de expositores extranjeros en comparación con la anterior edición en 2023. En su 9ª edición en el 2023\, atrajo a 2\,500 expositores\, 800 compradores y 83 mil visitantes profesionales de 132 países.
URL:https://comce.org.mx/eventos/tuttofood/
LOCATION:Ciudad de México
CATEGORIES:Europa
ATTACH;FMTTYPE=image/jpeg:https://comce.org.mx/wp-content/uploads/2025/12/TF26-Logo-Date-EN-w.jpg
END:VEVENT
BEGIN:VEVENT
DTSTART;TZID=UTC:20260514T080000
DTEND;TZID=UTC:20260517T170000
DTSTAMP:20260419T200541
CREATED:20251203T182029Z
LAST-MODIFIED:20251203T182316Z
UID:10000048-1778745600-1779037200@comce.org.mx
SUMMARY:Erbil International Building\, Construction and Machinery Expo (Erbil Build Expo)
DESCRIPTION:La mayor y más importante feria internacional de la construcción de Irak\, que presenta las últimas innovaciones y tendencias del sector. Más allá de su reputación dentro del territorio\, esta influyente feria de la construcción atrae a compradores de Irak y de los países vecinos. Esta amplia representación regional garantiza una plataforma sin parangón para la creación de redes y oportunidades de negocio\, ya que en la exposición convergen empresas privadas\, compradores de alto nivel y entidades gubernamentales y estatales.
URL:https://comce.org.mx/eventos/erbil-international-building-construction-and-machinery-expo-erbil-build-expo/
LOCATION:Erbil International Fair Ground\, Erbil-Iraq\, Iraq
CATEGORIES:Medio Oriente
ATTACH;FMTTYPE=image/jpeg:https://comce.org.mx/wp-content/uploads/2025/12/ERBIL-BUILD-EXPO-2026.jpg
END:VEVENT
BEGIN:VEVENT
DTSTART;TZID=UTC:20260518T080000
DTEND;TZID=UTC:20260520T170000
DTSTAMP:20260419T200541
CREATED:20251203T191809Z
LAST-MODIFIED:20251203T191809Z
UID:10000055-1779091200-1779296400@comce.org.mx
SUMMARY:Oman Petroleum & Energy Show
DESCRIPTION:18 al 20 de mayo de 2026	Proporciona una eficaz plataforma de negocios y creación de redes\, sirviendo de punto de encuentro clave para profesionales de la energía\, empresas de petróleo y gas\, responsables políticos y de la toma de decisiones\, y partes interesadas.	https://omanpetroleumandenergyshow.com/home
URL:https://comce.org.mx/eventos/oman-petroleum-energy-show/
LOCATION:Ciudad de México
CATEGORIES:Medio Oriente
ATTACH;FMTTYPE=image/jpeg:https://comce.org.mx/wp-content/uploads/2025/12/Oman-Petroleum-Energy-Show.jpg
END:VEVENT
BEGIN:VEVENT
DTSTART;TZID=UTC:20260518T080000
DTEND;TZID=UTC:20260520T170000
DTSTAMP:20260419T200541
CREATED:20251203T192506Z
LAST-MODIFIED:20251203T192657Z
UID:10000056-1779091200-1779296400@comce.org.mx
SUMMARY:Project Qatar
DESCRIPTION:Exposición internacional de materiales de construcción y edificación líder en la región\, en la que se presentan innovaciones de vanguardia y soluciones sostenibles que están configurando el camino de Qatar hacia un futuro sostenible.
URL:https://comce.org.mx/eventos/project-qatar/
LOCATION:Ciudad de México
CATEGORIES:Medio Oriente
ATTACH;FMTTYPE=image/jpeg:https://comce.org.mx/wp-content/uploads/2025/12/Oman-Petroleum-Energy-Show-1.jpg
END:VEVENT
BEGIN:VEVENT
DTSTART;TZID=UTC:20260519T080000
DTEND;TZID=UTC:20260520T170000
DTSTAMP:20260419T200541
CREATED:20251207T183353Z
LAST-MODIFIED:20251207T183353Z
UID:10000096-1779177600-1779296400@comce.org.mx
SUMMARY:PLMA (Private Label Manufacturers Association International Council)
DESCRIPTION:Ámsterdam\, Países bajos\nDurante más de 35 años\, el “Mundo de las marcas de distribuidor” de la PLM ha reunido a minoristas\, mayoristas y otros profesionales de marcas de distribuidor con fabricantes para ayudarles a encontrar nuevos productos\, hacer nuevos contactos y descubrir nuevas ideas. Los productos que se exhibirán incluyen alimentos frescos\, congelados y refrigerados; bebidas y alimentos secos\, así como categorías de productos no alimentarios que incluyen cosméticos\, salud y belleza\, artículos para el hogar y la cocina\, cuidado del automóvil y productos de jardinería y bricolaje.
URL:https://comce.org.mx/eventos/plma-private-label-manufacturers-association-international-council/
LOCATION:Ciudad de México
CATEGORIES:Europa
ATTACH;FMTTYPE=image/jpeg:https://comce.org.mx/wp-content/uploads/2025/12/PLMA-logo.jpg
END:VEVENT
BEGIN:VEVENT
DTSTART;TZID=UTC:20260601T080000
DTEND;TZID=UTC:20260601T170000
DTSTAMP:20260419T200541
CREATED:20251127T221721Z
LAST-MODIFIED:20251127T234001Z
UID:10000021-1780300800-1780333200@comce.org.mx
SUMMARY:Conservation Agriculture 
DESCRIPTION:El Congreso Mundial de Agricultura de Conservación presentará soluciones agrícolas prácticas derivadas de la investigación mundial\, las mejores prácticas agrícolas internacionales y la industria agrícola en general. El congreso potenciará la adopción de la agricultura de conservación abordando aspectos como la cuantificación de la salud del suelo\, incluida la integración de la ganadería en los sistemas de cultivo\, la estratificación de nutrientes\, la acidificación del suelo y la forma de ampliar progresivamente la escala.
URL:https://comce.org.mx/eventos/conservation-agriculture/
LOCATION:Ciudad de México
CATEGORIES:África
ATTACH;FMTTYPE=image/jpeg:https://comce.org.mx/wp-content/uploads/2025/11/9WCCA-logo-1.jpg
END:VEVENT
BEGIN:VEVENT
DTSTART;TZID=UTC:20260607T080000
DTEND;TZID=UTC:20260608T170000
DTSTAMP:20260419T200541
CREATED:20251205T190513Z
LAST-MODIFIED:20251205T190513Z
UID:10000084-1780819200-1780938000@comce.org.mx
SUMMARY:GOURMET SELECTION
DESCRIPTION:París\, Francia\nFeria de la comida fina\, es el evento francés definitivo para los profesionales de la alimentación\, una celebración de la gastronomía y un escaparte de descubrimientos gastronómicos. Es la única feria especializada que ofrece una gama de productos gourmet de alto valor añadido\, está dirigido al retail selectivo o especializado\, secciones de alimentación gourmet en grandes almacenes y catering comercial.
URL:https://comce.org.mx/eventos/gourmet-selection/
LOCATION:Ciudad de México
CATEGORIES:Europa
ATTACH;FMTTYPE=image/jpeg:https://comce.org.mx/wp-content/uploads/2025/12/GOURMET-SELECTION.jpg
END:VEVENT
BEGIN:VEVENT
DTSTART;TZID=UTC:20260609T080000
DTEND;TZID=UTC:20260611T170000
DTSTAMP:20260419T200541
CREATED:20251128T193504Z
LAST-MODIFIED:20251128T193625Z
UID:10000024-1780992000-1781197200@comce.org.mx
SUMMARY:FABTECH Canada
DESCRIPTION:Feria especializada en manufactura y tecnologías de conformado de metales\, soldadura\, automatización y fabricación industrial. Reúne a proveedores\, ingenieros y fabricantes para presentar maquinaria\, innovaciones técnicas y soluciones productivas. Se reune para conocer tendencias en procesos industriales y establecer contactos comerciales del sector.
URL:https://comce.org.mx/eventos/fabtech-canada/
LOCATION:Ciudad de México
CATEGORIES:América del Norte
ATTACH;FMTTYPE=image/png:https://comce.org.mx/wp-content/uploads/2025/11/FABTECH-Canada.png
END:VEVENT
BEGIN:VEVENT
DTSTART;TZID=UTC:20260609T080000
DTEND;TZID=UTC:20260611T170000
DTSTAMP:20260419T200541
CREATED:20251207T184208Z
LAST-MODIFIED:20251207T184208Z
UID:10000097-1780992000-1781197200@comce.org.mx
SUMMARY:Warsaw Food Expo
DESCRIPTION:Varsovia\, Polonia\nEs una de las dos ferias más importantes en Polonia dedicadas al sector alimentario. La feria tiene un carácter estrictamente de negocios y es una excelente plataforma para el diálogo entre productores y distribuidores de alimentos. Existe una percepción muy positiva sobre la gastronomía de México\, Polonia es un país con niveles de consumo de productos alimenticios muy considerables. La importación de productos mexicanos tiene buena recepción\, y con un enorme potencial de crecimiento en el sector alimenticio en general.
URL:https://comce.org.mx/eventos/warsaw-food-expo/
LOCATION:Ciudad de México
CATEGORIES:Europa
ATTACH;FMTTYPE=image/jpeg:https://comce.org.mx/wp-content/uploads/2025/12/WARSAW-FOOD-EXPO-logo.jpg
END:VEVENT
BEGIN:VEVENT
DTSTART;TZID=UTC:20260609T080000
DTEND;TZID=UTC:20260611T170000
DTSTAMP:20260419T200541
CREATED:20251207T184546Z
LAST-MODIFIED:20251207T184546Z
UID:10000098-1780992000-1781197200@comce.org.mx
SUMMARY:GreenTech
DESCRIPTION:Ámsterdam\, Países Bajos \n	9 al 11 de junio 2026	Es el lugar de encuentro mundial para todos los profesionales involucrados en la tecnología de la horticultura. GreenTech Amsterdam y GreenTech Americas se enfocan en las primeras etapas de la cadena de horticultura y los problemas de producción relevantes para los productores.  La edición de Green Tech Americas👆 se realizará del 12 al 14 de marzo 2024 en Querétaro\, México (https://www.greentech.nl/americas)	https://www.greentech.nl/
URL:https://comce.org.mx/eventos/greentech/
LOCATION:Ciudad de México
CATEGORIES:Europa
ATTACH;FMTTYPE=image/jpeg:https://comce.org.mx/wp-content/uploads/2025/12/GrennTech.jpg
END:VEVENT
BEGIN:VEVENT
DTSTART;TZID=UTC:20260609T080000
DTEND;TZID=UTC:20260612T170000
DTSTAMP:20260419T200541
CREATED:20251126T190407Z
LAST-MODIFIED:20251205T182135Z
UID:10000019-1780992000-1781283600@comce.org.mx
SUMMARY:Seoul Food & Hotel 2026
DESCRIPTION:Es la feria comercial internacional de alimentos y hostelería más grande de Corea\, sirviendo como una plataforma de comercio vital. Reúne a compradores coreanos de alta calidad y expertos de la industria para adquirir productos premium y explorar las tendencias globales del sector.
URL:https://comce.org.mx/eventos/seoul-food-hotel-2026/
LOCATION:Ciudad de México
CATEGORIES:Asia y Oceanía
ATTACH;FMTTYPE=image/jpeg:https://comce.org.mx/wp-content/uploads/2025/11/Seoul-Food.jpg
END:VEVENT
BEGIN:VEVENT
DTSTART;TZID=UTC:20260622T000000
DTEND;TZID=UTC:20260626T000000
DTSTAMP:20260419T200541
CREATED:20251118T195433Z
LAST-MODIFIED:20251205T182147Z
UID:10000005-1782086400-1782432000@comce.org.mx
SUMMARY:CISCE
DESCRIPTION:Es una plataforma global que fomenta la cooperación y el desarrollo conjunto entre empresas. Su segunda edición\, bajo el lema «Conectando al mundo»\, conectó exitosamente todos los sectores de la cadena\, impulsando la integración industrial\, la innovación y la recuperación económica global.
URL:https://comce.org.mx/eventos/cisce/
LOCATION:Ciudad de México
CATEGORIES:Asia y Oceanía
ATTACH;FMTTYPE=image/png:https://comce.org.mx/wp-content/uploads/2025/11/20240802103335_0035.png
END:VEVENT
BEGIN:VEVENT
DTSTART;TZID=UTC:20260708T080000
DTEND;TZID=UTC:20260710T170000
DTSTAMP:20260419T200541
CREATED:20251129T001951Z
LAST-MODIFIED:20251129T002318Z
UID:10000036-1783497600-1783702800@comce.org.mx
SUMMARY:AMTS (Automotive Manufacturing Technology & Material Show) 2026
DESCRIPTION:AMTS es una feria profesional líder en la industria de la ingeniería automotriz. Es la plataforma ideal para que empresas internacionales se incorporen al mercado chino de fabricación de automóviles\, presenten las últimas tecnologías y se reúnan con actores clave de la industria\, como fabricantes de equipos originales (OEM)\, integradores de sistemas\, proveedores de primer y segundo nivel\, así como centros de I+D y fabricación de vehículos y componentes.
URL:https://comce.org.mx/eventos/amts-2026/
LOCATION:Ciudad de México
CATEGORIES:Asia y Oceanía
ATTACH;FMTTYPE=image/jpeg:https://comce.org.mx/wp-content/uploads/2025/11/AFF-logo-1.jpg
END:VEVENT
BEGIN:VEVENT
DTSTART;TZID=UTC:20260709T080000
DTEND;TZID=UTC:20260711T170000
DTSTAMP:20260419T200541
CREATED:20251128T231009Z
LAST-MODIFIED:20251128T231009Z
UID:10000030-1783584000-1783789200@comce.org.mx
SUMMARY:Trade and Investment Convention (TIC)
DESCRIPTION:La Trade & Investment Convention (TIC)\, organizada por la Trinidad and Tobago Manufacturers’ Association (TTMA)\, se ha consolidado como uno de los encuentros empresariales más relevantes del Caribe\, al impulsar más de US$900 millones en oportunidades de negocio desde su creación. Este evento multisectorial reúne anualmente a cientos de expositores\, compradores internacionales y profesionales de la región\, facilitando citas B2B\, espacios de networking y un programa especializado de seminarios orientados a fortalecer la competitividad\, la innovación y las cadenas de suministro.
URL:https://comce.org.mx/eventos/trade-and-investment-convention-tic/
LOCATION:Ciudad de México
CATEGORIES:América Latina y el Caribe
ATTACH;FMTTYPE=image/jpeg:https://comce.org.mx/wp-content/uploads/2025/11/TIC-floor-plan-2022.jpg
END:VEVENT
BEGIN:VEVENT
DTSTART;TZID=UTC:20260720T080000
DTEND;TZID=UTC:20260724T170000
DTSTAMP:20260419T200541
CREATED:20251207T185359Z
LAST-MODIFIED:20251207T185359Z
UID:10000099-1784534400-1784912400@comce.org.mx
SUMMARY:Farnborough International Airshow
DESCRIPTION:Farnborough\, Inglaterra\nEs el evento dedicado a industria aeroespacial\, de aviación y de defensa\, se reúnen para el mejor espectáculo aéreo\, construir nuevas conexiones y obtener acceso a oportunidades de desarrollo comercial sin precedentes. Se reúnen más de 1\,262 expositores de 44 países\, 250 delegaciones civiles\, militares y espaciales. La exposición se centra en seis temas clave\, espacio\, defensa\, sostenibilidad\, innovación\, vuelo futuro y personal\, los cuales ofrecen un manejo único para la industria aeroespacial actual.
URL:https://comce.org.mx/eventos/farnborough-international-airshow/
LOCATION:Ciudad de México
CATEGORIES:Europa
ATTACH;FMTTYPE=image/jpeg:https://comce.org.mx/wp-content/uploads/2025/12/Farnborough-International-Airshow.jpg
END:VEVENT
BEGIN:VEVENT
DTSTART;TZID=UTC:20260722T080000
DTEND;TZID=UTC:20260724T170000
DTSTAMP:20260419T200541
CREATED:20251128T235337Z
LAST-MODIFIED:20251129T001036Z
UID:10000035-1784707200-1784912400@comce.org.mx
SUMMARY:DigiTech ASEAN Thailand
DESCRIPTION:Soluciones digitales para empresas en el sudeste asiático para conectar con los mercados tecnológicos y digitales globales.
URL:https://comce.org.mx/eventos/digitech-asean-thailand/
LOCATION:IMPACT Arena\, Exhibition and Convention Center\, IMPACT Exhibition Center Building Popular Rd\, Banmai Amphoe Pak Kret\, Nonthaburi 11120\, Thailand\, Thailand
CATEGORIES:Asia y Oceanía
ATTACH;FMTTYPE=image/jpeg:https://comce.org.mx/wp-content/uploads/2025/11/DigiTech-ASEAN-Thailand-logo.jpg
END:VEVENT
BEGIN:VEVENT
DTSTART;TZID=UTC:20260901T080000
DTEND;TZID=UTC:20260901T170000
DTSTAMP:20260419T200541
CREATED:20251119T165904Z
LAST-MODIFIED:20251205T181559Z
UID:10000009-1788249600-1788282000@comce.org.mx
SUMMARY:Costa Rica Trade & Investment Summit
DESCRIPTION:Rueda de negocios que se lleva a cabo en Costa Rica siendo la más importante de la región Centroamericana. Este evento promueve las exportaciones\, networking entre compradores internacionales y exportadores costarricenses.
URL:https://comce.org.mx/eventos/costa-rica-trade-investment-summit/
LOCATION:Ciudad de México
CATEGORIES:América Latina y el Caribe
ATTACH;FMTTYPE=image/jpeg:https://comce.org.mx/wp-content/uploads/2025/11/Costa-Rica-Trade-Investment-Summit.jpg
END:VEVENT
BEGIN:VEVENT
DTSTART;TZID=UTC:20260901T080000
DTEND;TZID=UTC:20260901T170000
DTSTAMP:20260419T200541
CREATED:20251127T235239Z
LAST-MODIFIED:20251127T235239Z
UID:10000022-1788249600-1788282000@comce.org.mx
SUMMARY:Pharmaconex West Africa
DESCRIPTION:Feria de la industria farmacéutica
URL:https://comce.org.mx/eventos/pharmaconex-west-africa/
LOCATION:Ciudad de México
CATEGORIES:África
ATTACH;FMTTYPE=image/jpeg:https://comce.org.mx/wp-content/uploads/2025/11/pharmaconex-logo.jpg
END:VEVENT
BEGIN:VEVENT
DTSTART;TZID=UTC:20260908T080000
DTEND;TZID=UTC:20260910T170000
DTSTAMP:20260419T200541
CREATED:20251129T004001Z
LAST-MODIFIED:20251129T004001Z
UID:10000038-1788854400-1789059600@comce.org.mx
SUMMARY:AgraME Dubai
DESCRIPTION:Exhibición sobre agricultura más grande en Medio Oriente. Networking\, presentación de innovaciones tecnológicas\, de nuevos productos y soluciones así como de prácticas de sustentabilidad.
URL:https://comce.org.mx/eventos/agrame-dubai/
LOCATION:Dubai World Trade Centre\, Sheikh Zayed Rd - Trade Center Second - Dubai\, Dubai\, United Arab Emirates
CATEGORIES:Medio Oriente
ATTACH;FMTTYPE=image/jpeg:https://comce.org.mx/wp-content/uploads/2025/11/Agra-Middle-East-logo.jpg
END:VEVENT
END:VCALENDAR