BEGIN:VCALENDAR
VERSION:2.0
PRODID:-//Consejo Empresarial Mexicano de Comercio Exterior, Inversión y Tecnología, A.C. - ECPv6.15.20//NONSGML v1.0//EN
CALSCALE:GREGORIAN
METHOD:PUBLISH
X-WR-CALNAME:Consejo Empresarial Mexicano de Comercio Exterior, Inversión y Tecnología, A.C.
X-ORIGINAL-URL:https://comce.org.mx
X-WR-CALDESC:Eventos para Consejo Empresarial Mexicano de Comercio Exterior, Inversión y Tecnología, A.C.
REFRESH-INTERVAL;VALUE=DURATION:PT1H
X-Robots-Tag:noindex
X-PUBLISHED-TTL:PT1H
BEGIN:VTIMEZONE
TZID:UTC
BEGIN:STANDARD
TZOFFSETFROM:+0000
TZOFFSETTO:+0000
TZNAME:UTC
DTSTART:20240101T000000
END:STANDARD
END:VTIMEZONE
BEGIN:VEVENT
DTSTART;TZID=UTC:20260118T080000
DTEND;TZID=UTC:20260120T170000
DTSTAMP:20260419T192851
CREATED:20251203T200942Z
LAST-MODIFIED:20251203T200942Z
UID:10000066-1768723200-1768928400@comce.org.mx
SUMMARY:World of Coffee Dubai
DESCRIPTION:Emiratos Árabes Unidos\, Dubái\nLa principal feria del café para expositores y Difusión de Medio Oriente y alrededores. Está pensada para las empresas cafeteras de los Emiratos Árabes Unidos y para quienes deseen introducirse en la emergente industria cafetera de Medio Oriente. Reúne a los principales actores internacionales de la industria cafetera: cultivadores\, productores\, tostadores\, propietarios de cafeterías\, importadores y exportadores de granos de café.
URL:https://comce.org.mx/eventos/world-of-coffee-dubai/
CATEGORIES:Medio Oriente
ATTACH;FMTTYPE=image/jpeg:https://comce.org.mx/wp-content/uploads/2025/12/World-of-Coffee-Dubai.jpg
END:VEVENT
BEGIN:VEVENT
DTSTART;TZID=UTC:20260116T080000
DTEND;TZID=UTC:20260120T170000
DTSTAMP:20260419T192851
CREATED:20251129T005228Z
LAST-MODIFIED:20251129T005646Z
UID:10000041-1768550400-1768928400@comce.org.mx
SUMMARY:SIGEP 
DESCRIPTION:Feria internacional dedicada a los operadores profesionales de cadenas productivas de heladerías\, pastelería\, chocolate\, café\, panificación y pizza\, a fin de exponer materias primas\, ingredientes\, tecnologías\, maquinarias\, equipos y servicios. Ofrece actividades B2B y degustación para los productores de café\, cacao y chocolate\, tiene el propósito de desarrollar contactos comerciales y nuevas oportunidades de negocios.
URL:https://comce.org.mx/eventos/sigep/
CATEGORIES:Europa
ATTACH;FMTTYPE=image/jpeg:https://comce.org.mx/wp-content/uploads/2025/11/SIGEP_logo.jpg
END:VEVENT
BEGIN:VEVENT
DTSTART;TZID=UTC:20260113T080000
DTEND;TZID=UTC:20260115T170000
DTSTAMP:20260419T192851
CREATED:20251203T200323Z
LAST-MODIFIED:20251203T200620Z
UID:10000065-1768291200-1768496400@comce.org.mx
SUMMARY:World Future Energy Summit
DESCRIPTION:Emiratos Árabes Unidos\, Abu Dhabi\nGrupo de reflexión mundial\, impulsado por la innovación global\, mentes pioneras y conocimientos revolucionarios. Se reunén a personas influyentes del sector\, solucionadores de problemas y expertos en soluciones de vanguardia\, y nos centramos en crear los planos para un futuro sostenible.
URL:https://comce.org.mx/eventos/world-future-energy-summit/
CATEGORIES:Medio Oriente
ATTACH;FMTTYPE=image/jpeg:https://comce.org.mx/wp-content/uploads/2025/12/WFES-logo.jpg
END:VEVENT
BEGIN:VEVENT
DTSTART;TZID=UTC:20260113T080000
DTEND;TZID=UTC:20260115T170000
DTSTAMP:20260419T192851
CREATED:20251203T195403Z
LAST-MODIFIED:20251203T195403Z
UID:10000063-1768291200-1768496400@comce.org.mx
SUMMARY:Future Minerals Summit
DESCRIPTION:La principal plataforma mundial de minerales. La feria está a la vanguardia de las conexiones mundiales de la industria\, reuniendo a gobiernos\, organizaciones internacionales y partes interesadas para configurar colectivamente el futuro de los minerales.
URL:https://comce.org.mx/eventos/future-minerals-summit/
CATEGORIES:Medio Oriente
ATTACH;FMTTYPE=image/jpeg:https://comce.org.mx/wp-content/uploads/2025/12/Future-Minerals.jpg
END:VEVENT
BEGIN:VEVENT
DTSTART;TZID=UTC:20260106T080000
DTEND;TZID=UTC:20260109T170000
DTSTAMP:20260419T192851
CREATED:20251119T174638Z
LAST-MODIFIED:20251215T160226Z
UID:10000014-1767686400-1767978000@comce.org.mx
SUMMARY:CES (Consumer Electronics Show)
DESCRIPTION:Feria anual de tecnología y electrónica de consumo donde se presentan innovaciones y tendencias tecnológicas de vanguardia. Es un evento de referencia global clave para revelar tecnologías que impactarán a nivel comercial y en la vida diaria de los consumidores.
URL:https://comce.org.mx/eventos/ces-consumer-electronics-show/
CATEGORIES:América del Norte
ATTACH;FMTTYPE=image/jpeg:https://comce.org.mx/wp-content/uploads/2025/11/ceslogo_clr_rgb-scaled-1.jpg
END:VEVENT
BEGIN:VEVENT
DTSTART;TZID=UTC:20251209T080000
DTEND;TZID=UTC:20251211T170000
DTSTAMP:20260419T192851
CREATED:20251203T173505Z
LAST-MODIFIED:20251203T173744Z
UID:10000043-1765267200-1765472400@comce.org.mx
SUMMARY:Automechanika Dubai
DESCRIPTION:Mayor encuentro de la industria de la posventa del automóvil en Medio Oriente; networking para conocer empresarios y descubrir las nuevas funciones e innovaciones de vanguardia en la industria automotriz en Medio Oriente.
URL:https://comce.org.mx/eventos/automechanika-dubai/
LOCATION:Dubai World Trade Centre\, Sheikh Zayed Rd - Trade Center Second - Dubai\, Dubai\, United Arab Emirates
CATEGORIES:Medio Oriente
ATTACH;FMTTYPE=image/jpeg:https://comce.org.mx/wp-content/uploads/2025/12/Automechanika-Dubai.jpg
END:VEVENT
END:VCALENDAR