BEGIN:VCALENDAR
VERSION:2.0
PRODID:-//Consejo Empresarial Mexicano de Comercio Exterior, Inversión y Tecnología, A.C. - ECPv6.15.20//NONSGML v1.0//EN
CALSCALE:GREGORIAN
METHOD:PUBLISH
X-ORIGINAL-URL:https://comce.org.mx
X-WR-CALDESC:Eventos para Consejo Empresarial Mexicano de Comercio Exterior, Inversión y Tecnología, A.C.
REFRESH-INTERVAL;VALUE=DURATION:PT1H
X-Robots-Tag:noindex
X-PUBLISHED-TTL:PT1H
BEGIN:VTIMEZONE
TZID:UTC
BEGIN:STANDARD
TZOFFSETFROM:+0000
TZOFFSETTO:+0000
TZNAME:UTC
DTSTART:20260101T000000
END:STANDARD
END:VTIMEZONE
BEGIN:VEVENT
DTSTART;TZID=UTC:20270309T080000
DTEND;TZID=UTC:20270312T170000
DTSTAMP:20260424T003723
CREATED:20251205T183717Z
LAST-MODIFIED:20251205T183902Z
UID:10000080-1804579200-1804870800@comce.org.mx
SUMMARY:AQUATECH 2027
DESCRIPTION:Ámsterdam\, Países Bajos\nAquatech Ámsterdam es la feria comercial de agua líder en el mundo para agua procesada\, potable y residual. Más de 1\,000 expositores y más de 25\,000 expertos en agua de 140 países. Reúne profesionales del agua de todo el mundo\, además del uso de una plataforma ideal para hacer rentables las relaciones comerciales\, intercambiar ideas y mejorar el know-how.
URL:https://comce.org.mx/eventos/aquatech-2027/
CATEGORIES:Europa
ATTACH;FMTTYPE=image/jpeg:https://comce.org.mx/wp-content/uploads/2025/12/AQUATECH-2027.jpg
END:VEVENT
BEGIN:VEVENT
DTSTART;TZID=UTC:20270324T080000
DTEND;TZID=UTC:20270326T170000
DTSTAMP:20260424T003723
CREATED:20251203T173106Z
LAST-MODIFIED:20251203T173314Z
UID:10000042-1805875200-1806080400@comce.org.mx
SUMMARY:ArabPlast
DESCRIPTION:Proyectar la industria más resistente del mundo\, su dinámica cambiante y establecer la importancia de una economía circular para un medio ambiente sostenible.
URL:https://comce.org.mx/eventos/arabplast/
LOCATION:Dubai World Trade Centre\, Sheikh Zayed Rd - Trade Center Second - Dubai\, Dubai\, United Arab Emirates
CATEGORIES:Medio Oriente
ATTACH;FMTTYPE=image/png:https://comce.org.mx/wp-content/uploads/2025/12/Arab-Plast.png
END:VEVENT
BEGIN:VEVENT
DTSTART;TZID=UTC:20271009T080000
DTEND;TZID=UTC:20271013T170000
DTSTAMP:20260424T003723
CREATED:20251205T190039Z
LAST-MODIFIED:20251205T190039Z
UID:10000083-1823068800-1823446800@comce.org.mx
SUMMARY:ANUGA 2027
DESCRIPTION:Colonia\, Alemania\nAnuga es la feria sectorial de alimentación y bebidas\, que se celebra cada dos años en Colonia\, Alemania. Junto con Sial París es la feria con mayor relevancia internacional para el sector agroalimentario y está dirigida a un público exclusivamente profesional\, acudiendo a esta cita los representantes de las entidades del sector alimentario más importantes del mundo. Los principales objetivos de los visitantes son: descubrir nuevas tendencias y productos\, progresos del mercado y nuevos proveedores.
URL:https://comce.org.mx/eventos/anuga-2027/
CATEGORIES:Europa
ATTACH;FMTTYPE=image/jpeg:https://comce.org.mx/wp-content/uploads/2025/12/ANUGA-logo.jpg
END:VEVENT
END:VCALENDAR