BEGIN:VCALENDAR
VERSION:2.0
PRODID:-//Consejo Empresarial Mexicano de Comercio Exterior, Inversión y Tecnología, A.C. - ECPv6.15.20//NONSGML v1.0//EN
CALSCALE:GREGORIAN
METHOD:PUBLISH
X-ORIGINAL-URL:https://comce.org.mx
X-WR-CALDESC:Eventos para Consejo Empresarial Mexicano de Comercio Exterior, Inversión y Tecnología, A.C.
REFRESH-INTERVAL;VALUE=DURATION:PT1H
X-Robots-Tag:noindex
X-PUBLISHED-TTL:PT1H
BEGIN:VTIMEZONE
TZID:UTC
BEGIN:STANDARD
TZOFFSETFROM:+0000
TZOFFSETTO:+0000
TZNAME:UTC
DTSTART:20250101T000000
END:STANDARD
END:VTIMEZONE
BEGIN:VEVENT
DTSTART;TZID=UTC:20261102T080000
DTEND;TZID=UTC:20261105T170000
DTSTAMP:20260420T044554
CREATED:20251129T002545Z
LAST-MODIFIED:20251129T003214Z
UID:10000037-1793606400-1793898000@comce.org.mx
SUMMARY:ADIPEC
DESCRIPTION:ADIPEC reúne a más de 2\,250 organizaciones de todo el espectro del ecosistema energético mundial para mostrar los últimos avances que configuran el futuro de la energía. La exposición ofrece a las empresas una oportunidad única de generar las asociaciones que necesitan para ofrecer nuevos modelos de negocio e innovaciones de productos que se ajusten a las prioridades de un ecosistema energético en evolución.
URL:https://comce.org.mx/eventos/adipec/
CATEGORIES:Medio Oriente
ATTACH;FMTTYPE=image/jpeg:https://comce.org.mx/wp-content/uploads/2025/11/ADIPEC-logo.jpg
END:VEVENT
END:VCALENDAR