BEGIN:VCALENDAR
VERSION:2.0
PRODID:-//Consejo Empresarial Mexicano de Comercio Exterior, Inversión y Tecnología, A.C. - ECPv6.15.20//NONSGML v1.0//EN
CALSCALE:GREGORIAN
METHOD:PUBLISH
X-WR-CALNAME:Consejo Empresarial Mexicano de Comercio Exterior, Inversión y Tecnología, A.C.
X-ORIGINAL-URL:https://comce.org.mx
X-WR-CALDESC:Eventos para Consejo Empresarial Mexicano de Comercio Exterior, Inversión y Tecnología, A.C.
REFRESH-INTERVAL;VALUE=DURATION:PT1H
X-Robots-Tag:noindex
X-PUBLISHED-TTL:PT1H
BEGIN:VTIMEZONE
TZID:UTC
BEGIN:STANDARD
TZOFFSETFROM:+0000
TZOFFSETTO:+0000
TZNAME:UTC
DTSTART:20250101T000000
END:STANDARD
END:VTIMEZONE
BEGIN:VEVENT
DTSTART;TZID=UTC:20260413T080000
DTEND;TZID=UTC:20260415T170000
DTSTAMP:20260419T213931
CREATED:20251207T175942Z
LAST-MODIFIED:20251207T175942Z
UID:10000091-1776067200-1776272400@comce.org.mx
SUMMARY:Food & Drink Expo
DESCRIPTION:Birmingham\, Reino Unido\nDurante los últimos 26 años\, Food & Drink Expo ha sido el evento insignia para el público minorista\, mayorista y de servicios de alimentos centrado en productos terminados. La feria ofrece una oportunidad de reunir a los sectores de alimentación\, venta al por menor especializada\, venta al por mayor y servicios de alimentación bajo un mismo techo.	https://www.foodanddrinkexpo.co.uk/
URL:https://comce.org.mx/eventos/food-drink-expo/
CATEGORIES:Europa
ATTACH;FMTTYPE=image/png:https://comce.org.mx/wp-content/uploads/2025/12/Captura-de-pantalla-2025-12-07-115749.png
END:VEVENT
BEGIN:VEVENT
DTSTART;TZID=UTC:20260412T080000
DTEND;TZID=UTC:20260415T170000
DTSTAMP:20260419T213931
CREATED:20251207T175603Z
LAST-MODIFIED:20251207T175603Z
UID:10000090-1775980800-1776272400@comce.org.mx
SUMMARY:
DESCRIPTION:Verona\, Italia\nLa feria Vinitaly se celebra cada año Vinitaly apoya a los productores de la industria vitivinícola desde 1967\, contribuyendo activamente al crecimiento del sistema vitivinícola mediante la creación de oportunidades de negocio en Italia y en todo el mundo\, así como la Visitantes de ocasiones de networking entre enólogos y profesionales del sector.
URL:https://comce.org.mx/eventos/4434/
CATEGORIES:Europa
ATTACH;FMTTYPE=image/jpeg:https://comce.org.mx/wp-content/uploads/2025/12/vinitaly-logo.jpg
END:VEVENT
BEGIN:VEVENT
DTSTART;TZID=UTC:20260330T080000
DTEND;TZID=UTC:20260402T170000
DTSTAMP:20260419T213931
CREATED:20251205T184446Z
LAST-MODIFIED:20251205T184446Z
UID:10000081-1774857600-1775149200@comce.org.mx
SUMMARY:Global Industrie
DESCRIPTION:París\, Francia\nSe trata de la cita de negocios del sector industrial por excelencia en donde se reúnen actores de todo el ecosistema\, las cadenas de valor y las filiales. Combina exposiciones\, reuniones B2B\, demostraciones\, encuentros de negocios\, y conferencias científicas\, entre otros. Su posicionamiento resueltamente moderno está orientado a la vez a la industria del futuro (industria 4.0) y al medio internacional. El salón industrial está enfocado en la mayor parte de los sectores: transporte\, energía\, agroalimentario\, químico\, cosmetología\, farmacéutico\, industria mecánica y electrónica\, entre otros. 
URL:https://comce.org.mx/eventos/global-industrie/
CATEGORIES:Europa
ATTACH;FMTTYPE=image/jpeg:https://comce.org.mx/wp-content/uploads/2025/12/GLOBAL-INDUSTRIE.jpg
END:VEVENT
BEGIN:VEVENT
DTSTART;TZID=UTC:20260330T080000
DTEND;TZID=UTC:20260401T170000
DTSTAMP:20260419T213931
CREATED:20251207T173816Z
LAST-MODIFIED:20251207T173846Z
UID:10000088-1774857600-1775062800@comce.org.mx
SUMMARY:IFE - International Food & Drink Event
DESCRIPTION:Londres\, Reino Unido\nEl evento líder del Reino Unido para profesionales de alimentos y bebidas que durante más de 40 años se ha posicionado en el corazón de la comunidad de alimentos y bebidas\, dando la bienvenida a 30\,000 minoristas\, mayoristas y profesionales del servicio de alimentos para probar y obtener productos de una lista global de productores.	https://www.ife.co.uk/
URL:https://comce.org.mx/eventos/ife-international-food-drink-event/
CATEGORIES:Europa
ATTACH;FMTTYPE=image/jpeg:https://comce.org.mx/wp-content/uploads/2025/12/International-Food-Drink-Event-logo.jpg
END:VEVENT
BEGIN:VEVENT
DTSTART;TZID=UTC:20260324T080000
DTEND;TZID=UTC:20260326T170000
DTSTAMP:20260419T213931
CREATED:20251207T175143Z
LAST-MODIFIED:20251207T175143Z
UID:10000089-1774339200-1774544400@comce.org.mx
SUMMARY:INFARMA
DESCRIPTION:Madrid\, España \nEl objetivo de la feria es que los farmacéuticos asistentes se lleven\, junto a una puesta al día sobre el presente y el futuro de la farmacia comunitaria\, ideas y experiencias que puedan adaptar y aplicar a su trabajo y mejorar así el valor y las soluciones que aportan a pacientes y población general. Los profesionales de la farmacia encontrarán la oferta más extensa e actual de los nuevos productos y servicios de los laboratorios y distribuidores de farmacia.
URL:https://comce.org.mx/eventos/infarma/
CATEGORIES:Europa
ATTACH;FMTTYPE=image/jpeg:https://comce.org.mx/wp-content/uploads/2025/12/logo-infarma.jpg
END:VEVENT
BEGIN:VEVENT
DTSTART;TZID=UTC:20260315T080000
DTEND;TZID=UTC:20260317T170000
DTSTAMP:20260419T213931
CREATED:20251207T173033Z
LAST-MODIFIED:20251207T173033Z
UID:10000087-1773561600-1773766800@comce.org.mx
SUMMARY:PROWEIN
DESCRIPTION:Düsseldorf\, Alemania\nProWein es la feria líder mundial de vinos y bebidas espirituosas\, el mayor encuentro de la industria para profesionales de la viticultura\, la producción\, el comercio y la gastronomía. Cada año\, ProWein ofrece tres días de negocios concentrados y un programa complementario muy prometedor.	https://www.prowein.com/
URL:https://comce.org.mx/eventos/prowein/
CATEGORIES:Europa
ATTACH;FMTTYPE=image/jpeg:https://comce.org.mx/wp-content/uploads/2025/12/PROWEIN_DUSSELDORF_LOGOTYPE_BLUE.jpg
END:VEVENT
BEGIN:VEVENT
DTSTART;TZID=UTC:20260314T080000
DTEND;TZID=UTC:20260316T170000
DTSTAMP:20260419T213931
CREATED:20251205T175804Z
LAST-MODIFIED:20251205T180206Z
UID:10000079-1773475200-1773680400@comce.org.mx
SUMMARY:FOOD EXPO GREECE
DESCRIPTION:Atenas\, Grecia\nEs la feria comercial de alimentos y bebidas más grandes del sudeste de Europa y una de las más importantes de su tipo a nivel internacional\, con 1\,350 expositores de Grecia y el resto del mundo; 2\,500 comerciantes de alimentos clave y 700 compradores invitados.
URL:https://comce.org.mx/eventos/food-expo-greece/
CATEGORIES:Europa
ATTACH;FMTTYPE=image/jpeg:https://comce.org.mx/wp-content/uploads/2025/12/FOOD-EXPO-GREECE.jpg
END:VEVENT
BEGIN:VEVENT
DTSTART;TZID=UTC:20260310T080000
DTEND;TZID=UTC:20260313T170000
DTSTAMP:20260419T213931
CREATED:20251205T174946Z
LAST-MODIFIED:20251205T175306Z
UID:10000078-1773129600-1773421200@comce.org.mx
SUMMARY:INTERTRAFFIC Amsterdam
DESCRIPTION:Países Bajos	 \nEvento reconocido globalmente como líder en el sector de movilidad urbana y tecnología de transporte\, se organiza cada dos años desde 1972\, reúne a representantes gubernamentales\, agencias de planeación urbana\, autoridades viales\, operadores carreteros y de estacionamientos\, fabricantes y distribuidores\, y profesionales de la industria automotriz de una variedad de países de la industria de la movilidad y logística mundial. Más de 900 empresas expositoras\, líderes a nivel mundial\, actores y profesionales del tráfico global presentan sus soluciones durante los cuatro días de feria.
URL:https://comce.org.mx/eventos/intertraffic-amsterdam/
CATEGORIES:Europa
ATTACH;FMTTYPE=image/jpeg:https://comce.org.mx/wp-content/uploads/2025/12/intertraffic-amsterdam-1.jpg
END:VEVENT
BEGIN:VEVENT
DTSTART;TZID=UTC:20260302T080000
DTEND;TZID=UTC:20260305T170000
DTSTAMP:20260419T213931
CREATED:20251205T174728Z
LAST-MODIFIED:20251205T174728Z
UID:10000077-1772438400-1772730000@comce.org.mx
SUMMARY:MOBILE WORLD CONGRESS
DESCRIPTION:Barcelona\, España\nEs el evento más influyente el mundo para la industria de la conectividad\, es la plataforma para líderes mundiales del sector telecomunicaciones para explorar las políticas e iniciativas del futuro de la tecnología móvil. El ciclo de conferencias incluye temas sobre el uso de nuevas tecnologías\, se hablará de conectividad\, innovación de inicio\, tecnología creativa\, industria conectada\, inteligencia artificial (AI)\, sociedad futura y experiencia del cliente.	https://www.mwcbarcelona.com/
URL:https://comce.org.mx/eventos/mobile-world-congress/
CATEGORIES:Europa
ATTACH;FMTTYPE=image/jpeg:https://comce.org.mx/wp-content/uploads/2025/12/MWC-logo.jpg
END:VEVENT
BEGIN:VEVENT
DTSTART;TZID=UTC:20260222T080000
DTEND;TZID=UTC:20260224T170000
DTSTAMP:20260419T213931
CREATED:20251205T172712Z
LAST-MODIFIED:20251205T172712Z
UID:10000076-1771747200-1771952400@comce.org.mx
SUMMARY:SANA Food – Naturally Organic
DESCRIPTION:Bolonia\, Italia\nTiene el objetivo de reunir a profesionales del sector orgánico y productos naturales que buscan establecer relaciones comerciales y analizar tendencias en este competido mercado. La feria incluye un evento B2B para los profesionales\, ideal para conocer el desarrollo y los desafíos que presentan los productos orgánicos\, naturales\, saludables y sustentables. El Instituto Ítalo Latinoamericano (IILA) pone a disposición de empresas y operadores de estos sectores de sus países miembros (incluye México)\, a fin de promover la presencia de PyMES latinoamericanas y apoyarlas para desarrollar contactos y establecer nuevas alianzas comerciales.\nContacto: Giselle Canahuati\,\nTel.: +39 06 068 492 261\, 206\, o 226.\nCorreo: s.socioeconomica@iila.org
URL:https://comce.org.mx/eventos/sana-food-naturally-organic/
CATEGORIES:Europa
ATTACH;FMTTYPE=image/jpeg:https://comce.org.mx/wp-content/uploads/2025/12/Sana_Logo-food.jpg
END:VEVENT
BEGIN:VEVENT
DTSTART;TZID=UTC:20260221T080000
DTEND;TZID=UTC:20260301T170000
DTSTAMP:20260419T213931
CREATED:20251205T171539Z
LAST-MODIFIED:20251205T171539Z
UID:10000074-1771660800-1772384400@comce.org.mx
SUMMARY:Salón Internacional de Agricultura
DESCRIPTION:Porte de Versailles\, Francia 	 \nDesde hace medio siglo el Salón Agrícola Internacional reúne cada año al sector agrícola. Dentro de la feria encontraran obtentores\, productores\, regiones\, organizaciones y sindicatos profesionales\, ministerios y organismos públicos o instituto de investigación. Todos contribuyen a presentar las diferentes facetas del sector agrícola y agroalimentario\, sus profesionales\, su evolución y perspectivas. El salón se organiza mediante cuatro áreas; ganadería y sus sectores\, productos de la región de Francia\, de ultramar y el mundo\, cultivos y sectores vegetales\, huerta y huerta\, profesiones agrícolas.
URL:https://comce.org.mx/eventos/salon-internacional-de-agricultura/
CATEGORIES:Europa
ATTACH;FMTTYPE=image/jpeg:https://comce.org.mx/wp-content/uploads/2025/12/Salon-Internacional-de-Agricultura.jpg
END:VEVENT
BEGIN:VEVENT
DTSTART;TZID=UTC:20260220T080000
DTEND;TZID=UTC:20260223T170000
DTSTAMP:20260419T213931
CREATED:20251205T170653Z
LAST-MODIFIED:20251205T170919Z
UID:10000073-1771574400-1771866000@comce.org.mx
SUMMARY:INHORGENTA MUNICH
DESCRIPTION:Múnich\, Alemania \nLa plataforma líder en Europa para joyas\, relojes y piedras preciosas. INHORGENTA MUNICH revela tendencias\, innovaciones y soluciones para el futuro.  En su edición 2022 contó con 732 expositores de 33 países y más15\, 600 visitantes de 81 países.
URL:https://comce.org.mx/eventos/inhorgenta-munich/
CATEGORIES:Europa
ATTACH;FMTTYPE=image/jpeg:https://comce.org.mx/wp-content/uploads/2025/12/INHORGENTA-logo.jpg
END:VEVENT
BEGIN:VEVENT
DTSTART;TZID=UTC:20260214T080000
DTEND;TZID=UTC:20260217T170000
DTSTAMP:20260419T213931
CREATED:20251205T165944Z
LAST-MODIFIED:20251205T170426Z
UID:10000072-1771056000-1771347600@comce.org.mx
SUMMARY:CoffeFest 
DESCRIPTION:Madrid\, España \nCoffeeFest es un evento vibrante y apasionante que celebra la cultura del café en todas sus formas. Este festival anual reúne a amantes del café\, baristas\, productores de café y entusiastas de la industria. Explora las últimas tendencias en métodos de preparación\, equipos y tecnologías relacionadas con el café. El evento ofrece talleres educativos\, competiciones de baristas y demostraciones de arte latte\, creando un espacio donde los participantes pueden aprender\, compartir conocimientos y sumergirse en la historia del café.
URL:https://comce.org.mx/eventos/coffefest/
CATEGORIES:Europa
ATTACH;FMTTYPE=image/jpeg:https://comce.org.mx/wp-content/uploads/2025/12/CoffeFest-.jpg
END:VEVENT
BEGIN:VEVENT
DTSTART;TZID=UTC:20260210T080000
DTEND;TZID=UTC:20260213T170000
DTSTAMP:20260419T213931
CREATED:20251205T165759Z
LAST-MODIFIED:20251205T165821Z
UID:10000071-1770710400-1771002000@comce.org.mx
SUMMARY:BIOFACH ALEMANIA
DESCRIPTION:Núremberg\, Alemania\nEs la feria líder mundial de alimentos orgánicos que reúne cada año a expertos del mundo orgánico. Es un importante evento empresarial\, para el sector\, y a la vez un encuentro y una oportunidad de posicionamiento. En ningún otro lugar todos los clientes\, proveedores\, socios y nuevos clientes potenciales se encuentran personalmente de una manera comparable. BIOFACH proporciona amplia información sobre el sector orgánico. 	https://www.biofach.de/en
URL:https://comce.org.mx/eventos/biofach-alemania/
CATEGORIES:Europa
ATTACH;FMTTYPE=image/jpeg:https://comce.org.mx/wp-content/uploads/2025/12/BIOFACH-logo.jpg
END:VEVENT
BEGIN:VEVENT
DTSTART;TZID=UTC:20260210T080000
DTEND;TZID=UTC:20260212T170000
DTSTAMP:20260419T213931
CREATED:20251205T164834Z
LAST-MODIFIED:20251205T165305Z
UID:10000070-1770710400-1770915600@comce.org.mx
SUMMARY:BIT 2026
DESCRIPTION:Milán\, Italia\n \nRepresenta una de las principales ferias de turismo en Italia y una de las principales ferias comerciales de Europa dedicadas al mundo del turismo\, atrae aproximadamente 2\,000 empresas y operadores profesionales\, así como a más de 70\,000 visitantes de todo el mundo. Presenta las novedades y tendencias para entender y anticipar la evolución de los hábitos y el turismo.
URL:https://comce.org.mx/eventos/bit-2026/
CATEGORIES:Europa
ATTACH;FMTTYPE=image/jpeg:https://comce.org.mx/wp-content/uploads/2025/12/BIT.jpg
END:VEVENT
BEGIN:VEVENT
DTSTART;TZID=UTC:20260204T080000
DTEND;TZID=UTC:20260207T170000
DTSTAMP:20260419T213931
CREATED:20251205T164605Z
LAST-MODIFIED:20251205T164605Z
UID:10000069-1770192000-1770483600@comce.org.mx
SUMMARY:IFEMA INTERGIFT
DESCRIPTION:Madrid\, España\nEs la mayor exposición comercial en España y Portugal para la presentación de nuevos productos\, diseños\, tendencias e innovadores conceptos tanto de marca como de retail en los sectores de mueble\, regalo y decoración.
URL:https://comce.org.mx/eventos/ifema-intergift/
CATEGORIES:Europa
ATTACH;FMTTYPE=image/jpeg:https://comce.org.mx/wp-content/uploads/2025/12/intergift_logo.jpg
END:VEVENT
BEGIN:VEVENT
DTSTART;TZID=UTC:20260204T080000
DTEND;TZID=UTC:20260206T170000
DTSTAMP:20260419T213931
CREATED:20251205T163105Z
LAST-MODIFIED:20251205T164203Z
UID:10000068-1770192000-1770397200@comce.org.mx
SUMMARY:FRUIT LOGISTICA
DESCRIPTION:Berlín\, Alemania \nSe presentan en Berlín empresas del sector de productos frescos; incluyendo compañías a nivel mundial\, así como pequeños y medianos proveedores de todo el mundo para darse cuenta del potencial de negocios en el sector internacional de productos frescos. Incluye todas áreas de negocio y participantes del mercado de los productos frescos proporcionando una visión completa de todas las novedades\, productos y servicios en todo el proceso. FRUIT LOGISTICA ofrece así excelentes oportunidades de establecer contacto con los principales grupos objetivos a nivel de toma de decisiones.
URL:https://comce.org.mx/eventos/fruit-logistica/
CATEGORIES:Europa
ATTACH;FMTTYPE=image/jpeg:https://comce.org.mx/wp-content/uploads/2025/12/FRUIT-LOGISTICA-logo.jpg
END:VEVENT
BEGIN:VEVENT
DTSTART;TZID=UTC:20260201T080000
DTEND;TZID=UTC:20260204T170000
DTSTAMP:20260419T213931
CREATED:20251205T162352Z
LAST-MODIFIED:20251205T162727Z
UID:10000067-1769932800-1770224400@comce.org.mx
SUMMARY:ISM Cologne
DESCRIPTION:Colonia\, Alemania\nLa feria líder mundial de confitería y bocadillos (snacks) ofrece inspiración e innovación\, emocionantes posibilidades de networking\, expositores de primera clase y visitantes competentes. Esta combinación perfecta es única en todo el mundo. Reúne la oferta más grande del mundo de productos de confitería y bocadillos de marca registrada.
URL:https://comce.org.mx/eventos/ism-cologne/
CATEGORIES:Europa
ATTACH;FMTTYPE=image/jpeg:https://comce.org.mx/wp-content/uploads/2025/12/ISM.jpg
END:VEVENT
BEGIN:VEVENT
DTSTART;TZID=UTC:20260121T080000
DTEND;TZID=UTC:20260125T170000
DTSTAMP:20260419T213931
CREATED:20251129T005007Z
LAST-MODIFIED:20251129T005007Z
UID:10000040-1768982400-1769360400@comce.org.mx
SUMMARY:FITUR - Feria Internacional de Turismo
DESCRIPTION:FITUR es la primera cita anual para los profesionales del turismo mundial y la feria líder para los mercados receptivos y emisores de Iberoamérica.  Es un foro único para promocionar las marcas\, presentar nuevos productos\, conocer las últimas tendencias y llenar las agendas de contactos y perspectivas. 
URL:https://comce.org.mx/eventos/fitur-feria-internacional-de-turismo/
CATEGORIES:Europa
ATTACH;FMTTYPE=image/png:https://comce.org.mx/wp-content/uploads/2025/11/Fitur-logo.png
END:VEVENT
BEGIN:VEVENT
DTSTART;TZID=UTC:20260116T080000
DTEND;TZID=UTC:20260120T170000
DTSTAMP:20260419T213931
CREATED:20251129T005228Z
LAST-MODIFIED:20251129T005646Z
UID:10000041-1768550400-1768928400@comce.org.mx
SUMMARY:SIGEP 
DESCRIPTION:Feria internacional dedicada a los operadores profesionales de cadenas productivas de heladerías\, pastelería\, chocolate\, café\, panificación y pizza\, a fin de exponer materias primas\, ingredientes\, tecnologías\, maquinarias\, equipos y servicios. Ofrece actividades B2B y degustación para los productores de café\, cacao y chocolate\, tiene el propósito de desarrollar contactos comerciales y nuevas oportunidades de negocios.
URL:https://comce.org.mx/eventos/sigep/
CATEGORIES:Europa
ATTACH;FMTTYPE=image/jpeg:https://comce.org.mx/wp-content/uploads/2025/11/SIGEP_logo.jpg
END:VEVENT
END:VCALENDAR