BEGIN:VCALENDAR
VERSION:2.0
PRODID:-//Consejo Empresarial Mexicano de Comercio Exterior, Inversión y Tecnología, A.C. - ECPv6.15.20//NONSGML v1.0//EN
CALSCALE:GREGORIAN
METHOD:PUBLISH
X-ORIGINAL-URL:https://comce.org.mx
X-WR-CALDESC:Eventos para Consejo Empresarial Mexicano de Comercio Exterior, Inversión y Tecnología, A.C.
REFRESH-INTERVAL;VALUE=DURATION:PT1H
X-Robots-Tag:noindex
X-PUBLISHED-TTL:PT1H
BEGIN:VTIMEZONE
TZID:UTC
BEGIN:STANDARD
TZOFFSETFROM:+0000
TZOFFSETTO:+0000
TZNAME:UTC
DTSTART:20250101T000000
END:STANDARD
END:VTIMEZONE
BEGIN:VEVENT
DTSTART;TZID=UTC:20261028T080000
DTEND;TZID=UTC:20261101T170000
DTSTAMP:20260420T074809
CREATED:20251205T171810Z
LAST-MODIFIED:20251205T172236Z
UID:10000075-1793174400-1793552400@comce.org.mx
SUMMARY:Salón del Chocolate
DESCRIPTION:París\, Francia  Gastronómico\n«Reúne más de 280 expositores\, los cuales son pasteleros\, confiteros\, de países productores de cacao y maestros chocolateros de todo el mundo (Francia\, Bélgica\, Austria\, Brasil\, Colombia\, México\, Portugal\, etc.) se ponen a disposición del público. Durante esta cita se ofrecen numerosas actividades\, los visitantes pueden asistir al Pastry Show (demostraciones de recetas por parte de grandes chefs)\, el Cacao Show (espectáculos de los países productores de cacao)\, el espacio Chocosphère (conferencias y degustaciones)\, talleres para adultos y niños y el desfile del vestido de chocolate.
URL:https://comce.org.mx/eventos/salon-del-chocolate/
CATEGORIES:Europa
ATTACH;FMTTYPE=image/jpeg:https://comce.org.mx/wp-content/uploads/2025/12/salon-du-chocolat.jpg
END:VEVENT
END:VCALENDAR