BEGIN:VCALENDAR
VERSION:2.0
PRODID:-//Consejo Empresarial Mexicano de Comercio Exterior, Inversión y Tecnología, A.C. - ECPv6.15.20//NONSGML v1.0//EN
CALSCALE:GREGORIAN
METHOD:PUBLISH
X-ORIGINAL-URL:https://comce.org.mx
X-WR-CALDESC:Eventos para Consejo Empresarial Mexicano de Comercio Exterior, Inversión y Tecnología, A.C.
REFRESH-INTERVAL;VALUE=DURATION:PT1H
X-Robots-Tag:noindex
X-PUBLISHED-TTL:PT1H
BEGIN:VTIMEZONE
TZID:UTC
BEGIN:STANDARD
TZOFFSETFROM:+0000
TZOFFSETTO:+0000
TZNAME:UTC
DTSTART:20250101T000000
END:STANDARD
END:VTIMEZONE
BEGIN:VEVENT
DTSTART;TZID=UTC:20261017T080000
DTEND;TZID=UTC:20261021T170000
DTSTAMP:20260420T074641
CREATED:20251119T173134Z
LAST-MODIFIED:20251205T184740Z
UID:10000012-1792224000-1792602000@comce.org.mx
SUMMARY:SIAL PARIS
DESCRIPTION:Plataforma global de eventos internacionales de alimentación y bebidas\, considerado como la mayor exposición de innovación del sector en el mundo. Es uno de los encuentros internacionales más importantes en Europa y el mundo\, es una feria que se celebra cada dos años y se especializa en la industria de procesamiento de alimentos que reúne a profesionales\, productores y compradores alrededor de las grandes apuestas mundiales y revela las tendencias y las innovaciones que darán forma a la industria agroalimentaria.
URL:https://comce.org.mx/eventos/sial-paris/
CATEGORIES:Europa
ATTACH;FMTTYPE=image/jpeg:https://comce.org.mx/wp-content/uploads/2025/11/SIAL-Paris-Logo.jpg
END:VEVENT
END:VCALENDAR